BEGIN:VCALENDAR
VERSION:2.0
PRODID:-//City Social X Atlanta - ECPv6.15.20//NONSGML v1.0//EN
CALSCALE:GREGORIAN
METHOD:PUBLISH
X-WR-CALNAME:City Social X Atlanta
X-ORIGINAL-URL:https://citysocialx.com
X-WR-CALDESC:Events for City Social X Atlanta
REFRESH-INTERVAL;VALUE=DURATION:PT1H
X-Robots-Tag:noindex
X-PUBLISHED-TTL:PT1H
BEGIN:VTIMEZONE
TZID:America/New_York
BEGIN:DAYLIGHT
TZOFFSETFROM:-0500
TZOFFSETTO:-0400
TZNAME:EDT
DTSTART:20250309T070000
END:DAYLIGHT
BEGIN:STANDARD
TZOFFSETFROM:-0400
TZOFFSETTO:-0500
TZNAME:EST
DTSTART:20251102T060000
END:STANDARD
BEGIN:DAYLIGHT
TZOFFSETFROM:-0500
TZOFFSETTO:-0400
TZNAME:EDT
DTSTART:20260308T070000
END:DAYLIGHT
BEGIN:STANDARD
TZOFFSETFROM:-0400
TZOFFSETTO:-0500
TZNAME:EST
DTSTART:20261101T060000
END:STANDARD
BEGIN:DAYLIGHT
TZOFFSETFROM:-0500
TZOFFSETTO:-0400
TZNAME:EDT
DTSTART:20270314T070000
END:DAYLIGHT
BEGIN:STANDARD
TZOFFSETFROM:-0400
TZOFFSETTO:-0500
TZNAME:EST
DTSTART:20271107T060000
END:STANDARD
END:VTIMEZONE
BEGIN:VEVENT
DTSTART;TZID=America/New_York:20260515T190000
DTEND;TZID=America/New_York:20260515T210000
DTSTAMP:20260421T062016
CREATED:20260227T020035Z
LAST-MODIFIED:20260408T182314Z
UID:10000062-1778871600-1778878800@citysocialx.com
SUMMARY:SPADE Night | Friday\, May 15
DESCRIPTION:Do you love great food\, cold beer\, and a bit of friendly competition?\nThen grab your crew and head to Toco Hills for Spades\, Pints\, And Damn good EATS! \nWhether you’re a seasoned Spades pro or have only heard rumors of the game\, we’ve got something for everyone. New to spades? No problem! Join our 30-minute crash course and learn the ropes before jumping into a game**. Already a Spades champ?** Show off your skills in a friendly match with other players. \nWe’ll keep the good times rolling at Wild Heaven Brewery / Fox Bros. BBQ every 3rd Friday from 7 PM – 10 PM. Come for the games\, stay for the laughs\, and make new friends! \nParking: Free.\nCover: None. \nBeers: Legendary. Sip on Emergency Drinking Beer Pils-Style Session Ale\, NEAR Wild Heaven Non-Alcoholic IPA\, or the tangy Punched UP Fruited Sour. \nFood: Mouthwatering. Think CERTIFIED ANGUS BEEF® CHOPPED BRISKET\, the iconic FOX BROS. “BURGER\,” SMOKED WINGS\, and more!\nBring your competitive spirit\, appetite\, and sense of humor—we’ll take care of the rest. See you there! \nDont Forget to Join Cate’s List – Your Backstage Pass Starts Here \nForget the clout-chasing events. Cate’s List is the backstage pass to Atlanta—hidden hangs\, underground vibes\, and nights you won’t see online. Add us to your inbox so you don’t miss a thing. \n👉 Join Cate’s List \nMembers Only Event  \nPlease log in or join with Google to RSVP.
URL:https://citysocialx.com/event/spade-night-may-15/
LOCATION:Wild Heaven\, 2935B N Druid Hills Rd NE\, Atlanta\, GA\, 30329\, United States
CATEGORIES:Atlanta,S.P.A.D.E.
ATTACH;FMTTYPE=image/png:https://citysocialx.com/wp-content/uploads/2026/02/SPADES.png
END:VEVENT
BEGIN:VEVENT
DTSTART;TZID=America/New_York:20260619T190000
DTEND;TZID=America/New_York:20260619T210000
DTSTAMP:20260421T062016
CREATED:20260412T020006Z
LAST-MODIFIED:20260412T020006Z
UID:10000116-1781895600-1781902800@citysocialx.com
SUMMARY:SPADE Night | Friday\, June 19
DESCRIPTION:Do you love great food\, cold beer\, and a bit of friendly competition?\nThen grab your crew and head to Toco Hills for Spades\, Pints\, And Damn good EATS! \nWhether you’re a seasoned Spades pro or have only heard rumors of the game\, we’ve got something for everyone. New to spades? No problem! Join our 30-minute crash course and learn the ropes before jumping into a game**. Already a Spades champ?** Show off your skills in a friendly match with other players. \nWe’ll keep the good times rolling at Wild Heaven Brewery / Fox Bros. BBQ every 3rd Friday from 7 PM – 10 PM. Come for the games\, stay for the laughs\, and make new friends! \nParking: Free.\nCover: None. \nBeers: Legendary. Sip on Emergency Drinking Beer Pils-Style Session Ale\, NEAR Wild Heaven Non-Alcoholic IPA\, or the tangy Punched UP Fruited Sour. \nFood: Mouthwatering. Think CERTIFIED ANGUS BEEF® CHOPPED BRISKET\, the iconic FOX BROS. “BURGER\,” SMOKED WINGS\, and more!\nBring your competitive spirit\, appetite\, and sense of humor—we’ll take care of the rest. See you there! \nDont Forget to Join Cate’s List – Your Backstage Pass Starts Here \nForget the clout-chasing events. Cate’s List is the backstage pass to Atlanta—hidden hangs\, underground vibes\, and nights you won’t see online. Add us to your inbox so you don’t miss a thing. \n👉 Join Cate’s List \nMembers Only Event  \nPlease log in or join with Google to RSVP.
URL:https://citysocialx.com/event/spade-night-friday-june-19/
LOCATION:Wild Heaven\, 2935B N Druid Hills Rd NE\, Atlanta\, GA\, 30329\, United States
CATEGORIES:Atlanta,S.P.A.D.E.
ATTACH;FMTTYPE=image/png:https://citysocialx.com/wp-content/uploads/2026/02/SPADES.png
END:VEVENT
END:VCALENDAR